BEGIN:VCALENDAR
VERSION:2.0
PRODID:icalendar-ruby
CALSCALE:GREGORIAN
METHOD:PUBLISH
BEGIN:VEVENT
DTSTAMP:20260424T123403Z
UID:c12ecef0-3c4e-4600-85c9-3a073324b3ea
DTSTART;VALUE=DATE:20170524
DTEND;VALUE=DATE:20170524
DESCRIPTION:Sports Park BMX
LOCATION:6901 N Casa Grande Highway  Tucson AZ 85743 USA
SUMMARY:Standard Single Single
URL:/site/bmx_races/333126
END:VEVENT
END:VCALENDAR
