BEGIN:VCALENDAR
VERSION:2.0
PRODID:icalendar-ruby
CALSCALE:GREGORIAN
METHOD:PUBLISH
BEGIN:VEVENT
DTSTAMP:20260424T123918Z
UID:9f3d4f76-3cc3-46bd-be3f-8af87926e480
DTSTART;VALUE=DATE:20170510
DTEND;VALUE=DATE:20170510
DESCRIPTION:Sports Park BMX
LOCATION:6901 N Casa Grande Highway  Tucson AZ 85743 USA
SUMMARY:Standard Single Single
URL:/site/bmx_races/333122
END:VEVENT
END:VCALENDAR
