BEGIN:VCALENDAR
VERSION:2.0
PRODID:icalendar-ruby
CALSCALE:GREGORIAN
METHOD:PUBLISH
BEGIN:VEVENT
DTSTAMP:20260424T215347Z
UID:12fb2f1b-b525-4646-bf98-6bb68b8fb28c
DTSTART;VALUE=DATE:20170629
DTEND;VALUE=DATE:20170629
DESCRIPTION:Trilogy Park BMX
LOCATION:75 W King St  Pottstown PA 19464 USA
SUMMARY:Standard Single Single
URL:/site/bmx_races/333039
END:VEVENT
END:VCALENDAR
