BEGIN:VCALENDAR
VERSION:2.0
PRODID:icalendar-ruby
CALSCALE:GREGORIAN
METHOD:PUBLISH
BEGIN:VEVENT
DTSTAMP:20260424T215251Z
UID:81ef9300-9300-46bc-bbfb-06aab379f749
DTSTART;VALUE=DATE:20170504
DTEND;VALUE=DATE:20170504
DESCRIPTION:Trilogy Park BMX
LOCATION:75 W King St  Pottstown PA 19464 USA
SUMMARY:Standard Single Single
URL:/site/bmx_races/333015
END:VEVENT
END:VCALENDAR
