BEGIN:VCALENDAR
VERSION:2.0
PRODID:icalendar-ruby
CALSCALE:GREGORIAN
METHOD:PUBLISH
BEGIN:VEVENT
DTSTAMP:20260426T032338Z
UID:42b0a121-a82c-4d81-bc2e-339a7329935a
DTSTART;VALUE=DATE:20170602
DTEND;VALUE=DATE:20170602
DESCRIPTION:Tucson BMX
LOCATION:9245 E Irvington  Tucson AZ 85730 USA
SUMMARY:Standard Single Single
URL:/site/bmx_races/332714
END:VEVENT
END:VCALENDAR
