BEGIN:VCALENDAR
VERSION:2.0
PRODID:icalendar-ruby
CALSCALE:GREGORIAN
METHOD:PUBLISH
BEGIN:VEVENT
DTSTAMP:20260425T133433Z
UID:21504037-74d4-4f7e-9a19-470d719b884d
DTSTART;VALUE=DATE:20171022
DTEND;VALUE=DATE:20171022
DESCRIPTION:Oak Creek BMX
LOCATION:648 Riverside Ave  Roseville CA 95678 USA
SUMMARY:Standard Single Single
URL:/site/bmx_races/332620
END:VEVENT
END:VCALENDAR
