BEGIN:VCALENDAR
VERSION:2.0
PRODID:icalendar-ruby
CALSCALE:GREGORIAN
METHOD:PUBLISH
BEGIN:VEVENT
DTSTAMP:20260425T105523Z
UID:ca27e964-6902-4f50-81a9-31e87f851aef
DTSTART;VALUE=DATE:20170422
DTEND;VALUE=DATE:20170422
DESCRIPTION:Oak Creek BMX
LOCATION:648 Riverside Ave  Roseville CA 95678 USA
SUMMARY:Standard Single Single
URL:/site/bmx_races/332511
END:VEVENT
END:VCALENDAR
