BEGIN:VCALENDAR
VERSION:2.0
PRODID:icalendar-ruby
CALSCALE:GREGORIAN
METHOD:PUBLISH
BEGIN:VEVENT
DTSTAMP:20260425T035238Z
UID:277b3198-77e8-4b7b-8509-12c75a6de2fb
DTSTART;VALUE=DATE:20170416
DTEND;VALUE=DATE:20170416
DESCRIPTION:Oak Creek BMX
LOCATION:648 Riverside Ave  Roseville CA 95678 USA
SUMMARY:Standard Single Single
URL:/site/bmx_races/332507
END:VEVENT
END:VCALENDAR
