BEGIN:VCALENDAR
VERSION:2.0
PRODID:icalendar-ruby
CALSCALE:GREGORIAN
METHOD:PUBLISH
BEGIN:VEVENT
DTSTAMP:20260425T190923Z
UID:ce8ac43c-2839-4176-b0ad-bc33d540ff45
DTSTART;VALUE=DATE:20171007
DTEND;VALUE=DATE:20171007
DESCRIPTION:Woodland BMX
LOCATION:880 Victory Hwy  West Greenwich RI 02817 USA
SUMMARY:Standard Single Single
URL:/site/bmx_races/332241
END:VEVENT
END:VCALENDAR
