BEGIN:VCALENDAR
VERSION:2.0
PRODID:icalendar-ruby
CALSCALE:GREGORIAN
METHOD:PUBLISH
BEGIN:VEVENT
DTSTAMP:20260424T104330Z
UID:74e01350-30fa-4157-9771-4433ef2bb73e
DTSTART;VALUE=DATE:20170712
DTEND;VALUE=DATE:20170712
DESCRIPTION:Crow River BMX
LOCATION:3150 Lander Avenue North   St. Michael MN 55376 - 9633  USA
SUMMARY:Standard Single Single
URL:/site/bmx_races/332008
END:VEVENT
END:VCALENDAR
