BEGIN:VCALENDAR
VERSION:2.0
PRODID:icalendar-ruby
CALSCALE:GREGORIAN
METHOD:PUBLISH
BEGIN:VEVENT
DTSTAMP:20260425T105439Z
UID:1417f9b8-1a5a-4609-9aeb-59475f323b89
DTSTART;VALUE=DATE:20171118
DTEND;VALUE=DATE:20171118
DESCRIPTION:Desoto BMX
LOCATION:Grimes Park 500 E. Centre Park Blvd Desoto TX 75115 USA
SUMMARY:Standard Single Single
URL:/site/bmx_races/331642
END:VEVENT
END:VCALENDAR
