BEGIN:VCALENDAR
VERSION:2.0
PRODID:icalendar-ruby
CALSCALE:GREGORIAN
METHOD:PUBLISH
BEGIN:VEVENT
DTSTAMP:20260424T220344Z
UID:0b27db8e-e8e7-4317-97d3-8e95364b6457
DTSTART;VALUE=DATE:20170430
DTEND;VALUE=DATE:20170430
DESCRIPTION:Spreckels Park BMX
LOCATION:941 Spreckels Ave  Manteca CA 95336 USA
SUMMARY:Standard Single Single
URL:/site/bmx_races/331342
END:VEVENT
END:VCALENDAR
