BEGIN:VCALENDAR
VERSION:2.0
PRODID:icalendar-ruby
CALSCALE:GREGORIAN
METHOD:PUBLISH
BEGIN:VEVENT
DTSTAMP:20260425T125518Z
UID:59e673e2-fab8-47e6-8456-84b42f12b064
DTSTART;VALUE=DATE:20170820
DTEND;VALUE=DATE:20170820
DESCRIPTION:Cobb County BMX
LOCATION:3820 Macedonia Rd  Powder Springs GA 30127 USA
SUMMARY:Standard Double Double
URL:/site/bmx_races/330482
END:VEVENT
END:VCALENDAR
