BEGIN:VCALENDAR
VERSION:2.0
PRODID:icalendar-ruby
CALSCALE:GREGORIAN
METHOD:PUBLISH
BEGIN:VEVENT
DTSTAMP:20260424T190230Z
UID:0fc0c94a-d285-40e6-aef8-d4b4dc35b7d2
DTSTART;VALUE=DATE:20170517
DTEND;VALUE=DATE:20170517
DESCRIPTION:Rogue Valley BMX
LOCATION:Highland Drive  Medford OR 97504 USA
SUMMARY:Standard Single Single
URL:/site/bmx_races/330309
END:VEVENT
END:VCALENDAR
