BEGIN:VCALENDAR
VERSION:2.0
PRODID:icalendar-ruby
CALSCALE:GREGORIAN
METHOD:PUBLISH
BEGIN:VEVENT
DTSTAMP:20260425T003834Z
UID:efd2bb6c-379d-4094-8f92-29ad9d82647a
DTSTART;VALUE=DATE:20171014
DTEND;VALUE=DATE:20171014
DESCRIPTION:Dacono BMX
LOCATION:113 Forest Ave  Dacono CO 80514 USA
SUMMARY:Standard Single Single
URL:/site/bmx_races/330194
END:VEVENT
END:VCALENDAR
