BEGIN:VCALENDAR
VERSION:2.0
PRODID:icalendar-ruby
CALSCALE:GREGORIAN
METHOD:PUBLISH
BEGIN:VEVENT
DTSTAMP:20260424T141313Z
UID:96c7b197-3b48-4ee8-a79d-68f40618fa02
DTSTART;VALUE=DATE:20170912
DTEND;VALUE=DATE:20170912
DESCRIPTION:River City BMX
LOCATION:251 Ne Agness  Grants Pass OR 97526 USA
SUMMARY:Standard Single Single
URL:/site/bmx_races/330071
END:VEVENT
END:VCALENDAR
