BEGIN:VCALENDAR
VERSION:2.0
PRODID:icalendar-ruby
CALSCALE:GREGORIAN
METHOD:PUBLISH
BEGIN:VEVENT
DTSTAMP:20260424T105822Z
UID:20a7261e-16e0-4a80-9f05-b4234c9c77db
DTSTART;VALUE=DATE:20170308
DTEND;VALUE=DATE:20170308
DESCRIPTION:Grand Prix BMX at SoCal Fair
LOCATION:18700 Lake Perris Dr  Perris CA 92571 USA
SUMMARY:Standard Single Single
URL:/site/bmx_races/329388
END:VEVENT
END:VCALENDAR
