BEGIN:VCALENDAR
VERSION:2.0
PRODID:icalendar-ruby
CALSCALE:GREGORIAN
METHOD:PUBLISH
BEGIN:VEVENT
DTSTAMP:20260425T025709Z
UID:009781e1-7ed6-40f8-b030-7264ad22d573
DTSTART;VALUE=DATE:20170415
DTEND;VALUE=DATE:20170415
DESCRIPTION:Northern Virginia (NOVA) BMX
LOCATION:7 County Complex Court  Woodbridge VA 22192 USA
SUMMARY:Standard Single Single
URL:/site/bmx_races/328153
END:VEVENT
END:VCALENDAR
