BEGIN:VCALENDAR
VERSION:2.0
PRODID:icalendar-ruby
CALSCALE:GREGORIAN
METHOD:PUBLISH
BEGIN:VEVENT
DTSTAMP:20260425T113606Z
UID:33e93d48-642b-41d1-a2a2-cbf44059b2f2
DTSTART;VALUE=DATE:20170713
DTEND;VALUE=DATE:20170713
DESCRIPTION:Faribault BMX
LOCATION:South Alexander Park   1010 7th Avenue Nw Faribault MN 55021 USA
SUMMARY:Standard Single Single
URL:/site/bmx_races/328068
END:VEVENT
END:VCALENDAR
