BEGIN:VCALENDAR
VERSION:2.0
PRODID:icalendar-ruby
CALSCALE:GREGORIAN
METHOD:PUBLISH
BEGIN:VEVENT
DTSTAMP:20260424T233615Z
UID:6f960b85-15c2-4c79-8b0c-c0495dc8da2d
DTSTART;VALUE=DATE:20171013
DTEND;VALUE=DATE:20171013
DESCRIPTION:Black Mountain BMX
LOCATION:24024 N 11th St  Phoenix AZ 85024 USA
SUMMARY:Standard Single Single
URL:/site/bmx_races/328014
END:VEVENT
END:VCALENDAR
