BEGIN:VCALENDAR
VERSION:2.0
PRODID:icalendar-ruby
CALSCALE:GREGORIAN
METHOD:PUBLISH
BEGIN:VEVENT
DTSTAMP:20260424T123403Z
UID:e5ad57fb-2ee4-4227-93bd-dee57c1671a5
DTSTART;VALUE=DATE:20171004
DTEND;VALUE=DATE:20171004
DESCRIPTION:Kingston Point BMX
LOCATION:4 Delaware Ave  Kingston NY 12401 USA
SUMMARY:Standard Single Single
URL:/site/bmx_races/327375
END:VEVENT
END:VCALENDAR
