BEGIN:VCALENDAR
VERSION:2.0
PRODID:icalendar-ruby
CALSCALE:GREGORIAN
METHOD:PUBLISH
BEGIN:VEVENT
DTSTAMP:20260424T080006Z
UID:3b899a19-15a7-4190-a33d-4c82b201427c
DTSTART;VALUE=DATE:20170709
DTEND;VALUE=DATE:20170709
DESCRIPTION:St. Peters BMX
LOCATION:100 Brown Rd  St. Peters MO 63376 USA
SUMMARY:Qualifier/State Triple
URL:/site/bmx_races/326203
END:VEVENT
END:VCALENDAR
