BEGIN:VCALENDAR
VERSION:2.0
PRODID:icalendar-ruby
CALSCALE:GREGORIAN
METHOD:PUBLISH
BEGIN:VEVENT
DTSTAMP:20260424T220445Z
UID:5a8852bb-32f3-4e25-83d1-f55ec33f564f
DTSTART;VALUE=DATE:20170617
DTEND;VALUE=DATE:20170617
DESCRIPTION:County Line BMX
LOCATION:8560 South Colorado Blvd  Centennial CO 80126 USA
SUMMARY:Standard Double Double
URL:/site/bmx_races/326147
END:VEVENT
END:VCALENDAR
