BEGIN:VCALENDAR
VERSION:2.0
PRODID:icalendar-ruby
CALSCALE:GREGORIAN
METHOD:PUBLISH
BEGIN:VEVENT
DTSTAMP:20260424T123923Z
UID:a83163c4-0504-4384-8f19-f4179d22e1d4
DTSTART;VALUE=DATE:20170806
DTEND;VALUE=DATE:20170806
DESCRIPTION:Electric City BMX
LOCATION:1200 21st Ave So  Great Falls MT 59405 USA
SUMMARY:Qualifier Triple
URL:/site/bmx_races/325892
END:VEVENT
END:VCALENDAR
