BEGIN:VCALENDAR
VERSION:2.0
PRODID:icalendar-ruby
CALSCALE:GREGORIAN
METHOD:PUBLISH
BEGIN:VEVENT
DTSTAMP:20260424T090205Z
UID:0829923c-e00c-4791-8f28-b5fd10326675
DTSTART;VALUE=DATE:20171001
DTEND;VALUE=DATE:20171001
DESCRIPTION:Central Wisconsin BMX
LOCATION:2220 E Riverview Expy\,  Wisconsin Rapids WI 54494 USA
SUMMARY:Standard Single Single
URL:/site/bmx_races/325805
END:VEVENT
END:VCALENDAR
