BEGIN:VCALENDAR
VERSION:2.0
PRODID:icalendar-ruby
CALSCALE:GREGORIAN
METHOD:PUBLISH
BEGIN:VEVENT
DTSTAMP:20260425T201806Z
UID:f829d78a-a764-4615-b9cb-18c156d3a198
DTSTART;VALUE=DATE:20170608
DTEND;VALUE=DATE:20170608
DESCRIPTION:Central Wisconsin BMX
LOCATION:2220 E Riverview Expy\,  Wisconsin Rapids WI 54494 USA
SUMMARY:Standard Single Single
URL:/site/bmx_races/325753
END:VEVENT
END:VCALENDAR
