BEGIN:VCALENDAR
VERSION:2.0
PRODID:icalendar-ruby
CALSCALE:GREGORIAN
METHOD:PUBLISH
BEGIN:VEVENT
DTSTAMP:20260424T091934Z
UID:d010f5f9-3100-487c-ae91-ca8325ae4849
DTSTART;VALUE=DATE:20170325
DTEND;VALUE=DATE:20170325
DESCRIPTION:Blanchard Woods BMX
LOCATION:4600 Blanchard Woods Drive  Evans GA 30809 USA
SUMMARY:Standard Single Single
URL:/site/bmx_races/325147
END:VEVENT
END:VCALENDAR
