BEGIN:VCALENDAR
VERSION:2.0
PRODID:icalendar-ruby
CALSCALE:GREGORIAN
METHOD:PUBLISH
BEGIN:VEVENT
DTSTAMP:20260425T161028Z
UID:0b3bb748-7d60-4eaa-9b98-8d5f5bf4bdd0
DTSTART;VALUE=DATE:20170820
DTEND;VALUE=DATE:20170820
DESCRIPTION:Revolution Bike Park
LOCATION:400 Mundis Race Rd  York PA 17406 USA
SUMMARY:Standard Single Single
URL:/site/bmx_races/325041
END:VEVENT
END:VCALENDAR
