BEGIN:VCALENDAR
VERSION:2.0
PRODID:icalendar-ruby
CALSCALE:GREGORIAN
METHOD:PUBLISH
BEGIN:VEVENT
DTSTAMP:20260424T161740Z
UID:10fb169a-c813-4091-8262-07290901be06
DTSTART;VALUE=DATE:20170202
DTEND;VALUE=DATE:20170202
DESCRIPTION:Bellflower BMX
LOCATION:9030 Somerset Blvd  Bellflower CA 90706 USA
SUMMARY:Standard Single Single
URL:/site/bmx_races/324522
END:VEVENT
END:VCALENDAR
