BEGIN:VCALENDAR
VERSION:2.0
PRODID:icalendar-ruby
CALSCALE:GREGORIAN
METHOD:PUBLISH
BEGIN:VEVENT
DTSTAMP:20260425T172415Z
UID:24c5a7e8-15e1-41f8-b668-26b6b09190d8
DTSTART;VALUE=DATE:20170225
DTEND;VALUE=DATE:20170225
DESCRIPTION:Red Hills Indoor BMX
LOCATION:Blackhawk Arena Grounds  Salina UT 84654 USA
SUMMARY:Race For Life Double Double
URL:/site/bmx_races/324304
END:VEVENT
END:VCALENDAR
