BEGIN:VCALENDAR
VERSION:2.0
PRODID:icalendar-ruby
CALSCALE:GREGORIAN
METHOD:PUBLISH
BEGIN:VEVENT
DTSTAMP:20260425T010708Z
UID:7298904c-7b45-481e-bea7-f6d85a59561e
DTSTART;VALUE=DATE:20161022
DTEND;VALUE=DATE:20161022
DESCRIPTION:Hampton BMX
LOCATION:901 E Littleback River Rd  Hampton VA 23669 USA
SUMMARY:Local Race Single
URL:/site/bmx_races/323971
END:VEVENT
END:VCALENDAR
