BEGIN:VCALENDAR
VERSION:2.0
PRODID:icalendar-ruby
CALSCALE:GREGORIAN
METHOD:PUBLISH
BEGIN:VEVENT
DTSTAMP:20260425T024734Z
UID:c41de69c-3b67-44aa-ab6d-76d3071348d8
DTSTART;VALUE=DATE:20170224
DTEND;VALUE=DATE:20170224
DESCRIPTION:Boulder BMX\, Inc
LOCATION:1799 Commons Way  Boulder City NV 89005 USA
SUMMARY:Standard Single Single
URL:/site/bmx_races/323555
END:VEVENT
END:VCALENDAR
