BEGIN:VCALENDAR
VERSION:2.0
PRODID:icalendar-ruby
CALSCALE:GREGORIAN
METHOD:PUBLISH
BEGIN:VEVENT
DTSTAMP:20260424T080011Z
UID:f998d13c-fe51-46e7-b8cf-8b1f0768de35
DTSTART;VALUE=DATE:20171104
DTEND;VALUE=DATE:20171104
DESCRIPTION:Peninsula Indoor BMX
LOCATION:5867 Dogwood Road Se  Port Orchard WA 98367 USA
SUMMARY:Warnicke Double Double
URL:/site/bmx_races/323505
END:VEVENT
END:VCALENDAR
