BEGIN:VCALENDAR
VERSION:2.0
PRODID:icalendar-ruby
CALSCALE:GREGORIAN
METHOD:PUBLISH
BEGIN:VEVENT
DTSTAMP:20260426T003232Z
UID:102aa798-41fc-4394-bcba-b51b6108474f
DTSTART;VALUE=DATE:20170114
DTEND;VALUE=DATE:20170114
DESCRIPTION:Peninsula Indoor BMX
LOCATION:5867 Dogwood Road Se  Port Orchard WA 98367 USA
SUMMARY:Standard Single Single
URL:/site/bmx_races/323435
END:VEVENT
END:VCALENDAR
