BEGIN:VCALENDAR
VERSION:2.0
PRODID:icalendar-ruby
CALSCALE:GREGORIAN
METHOD:PUBLISH
BEGIN:VEVENT
DTSTAMP:20260425T222939Z
UID:042ecf60-e254-4234-99e8-303fc6c61bad
DTSTART;VALUE=DATE:20170521
DTEND;VALUE=DATE:20170521
DESCRIPTION:Santa Maria BMX
LOCATION:4040 Highway 101  Santa Maria CA 93455 USA
SUMMARY:Standard Single Single
URL:/site/bmx_races/323002
END:VEVENT
END:VCALENDAR
