BEGIN:VCALENDAR
VERSION:2.0
PRODID:icalendar-ruby
CALSCALE:GREGORIAN
METHOD:PUBLISH
BEGIN:VEVENT
DTSTAMP:20260424T233650Z
UID:807d1583-a1fe-4f3e-8f11-5152d16a4b9b
DTSTART;VALUE=DATE:20170217
DTEND;VALUE=DATE:20170217
DESCRIPTION:Rad Canyon BMX Indoor
LOCATION:2100 W 11400 S  South Jordan UT 84095 USA
SUMMARY:Standard Single Single
URL:/site/bmx_races/322748
END:VEVENT
END:VCALENDAR
