BEGIN:VCALENDAR
VERSION:2.0
PRODID:icalendar-ruby
CALSCALE:GREGORIAN
METHOD:PUBLISH
BEGIN:VEVENT
DTSTAMP:20260425T133431Z
UID:95518ce2-7d25-47df-8893-3ad80c39edae
DTSTART;VALUE=DATE:20161112
DTEND;VALUE=DATE:20161112
DESCRIPTION:EHT BMX
LOCATION:Veterans Memorial Park Ocean Heights Ave Egg Harbor Township NJ 08
 234 USA
SUMMARY:Earned Double
URL:/site/bmx_races/322603
END:VEVENT
END:VCALENDAR
