BEGIN:VCALENDAR
VERSION:2.0
PRODID:icalendar-ruby
CALSCALE:GREGORIAN
METHOD:PUBLISH
BEGIN:VEVENT
DTSTAMP:20260425T141944Z
UID:8e2291e9-aa0e-47bf-8610-ca7259e8969e
DTSTART;VALUE=DATE:20161211
DTEND;VALUE=DATE:20161211
DESCRIPTION:Southwest Wyoming Indoor BMX
LOCATION:3320 Yellowstone Road  Rock Springs WY 82901 USA
SUMMARY:Local Race Single
URL:/site/bmx_races/322407
END:VEVENT
END:VCALENDAR
