BEGIN:VCALENDAR
VERSION:2.0
PRODID:icalendar-ruby
CALSCALE:GREGORIAN
METHOD:PUBLISH
BEGIN:VEVENT
DTSTAMP:20260426T021025Z
UID:226a9d04-a289-4cf2-8ac7-5f8e16955804
DTSTART;VALUE=DATE:20161008
DTEND;VALUE=DATE:20161008
DESCRIPTION:Cargill Park BMX
LOCATION:2800 Cargill Drive  Shreveport LA 71108 USA
SUMMARY:Local Race Single
URL:/site/bmx_races/322304
END:VEVENT
END:VCALENDAR
