BEGIN:VCALENDAR
VERSION:2.0
PRODID:icalendar-ruby
CALSCALE:GREGORIAN
METHOD:PUBLISH
BEGIN:VEVENT
DTSTAMP:20260424T173048Z
UID:12deb785-ceb5-4e20-8077-2bae697d3531
DTSTART;VALUE=DATE:20160919
DTEND;VALUE=DATE:20160919
DESCRIPTION:Heartland BMX
LOCATION:4801 Sw Shunga Dr  Topeka KS 66614 USA
SUMMARY:Local Race Single
URL:/site/bmx_races/322272
END:VEVENT
END:VCALENDAR
