BEGIN:VCALENDAR
VERSION:2.0
PRODID:icalendar-ruby
CALSCALE:GREGORIAN
METHOD:PUBLISH
BEGIN:VEVENT
DTSTAMP:20260424T215338Z
UID:191f6f8d-d67e-4cc8-a828-1a0878692ed5
DTSTART;VALUE=DATE:20170605
DTEND;VALUE=DATE:20170605
DESCRIPTION:River Valley BMX
LOCATION:229 S German St  New Ulm MN 56073 USA
SUMMARY:Standard Single Single
URL:/site/bmx_races/322103
END:VEVENT
END:VCALENDAR
