BEGIN:VCALENDAR
VERSION:2.0
PRODID:icalendar-ruby
CALSCALE:GREGORIAN
METHOD:PUBLISH
BEGIN:VEVENT
DTSTAMP:20260424T233652Z
UID:39ebe707-6b62-4b77-8cbb-3f4c30b73e4a
DTSTART;VALUE=DATE:20160827
DTEND;VALUE=DATE:20160827
DESCRIPTION:Star City BMX
LOCATION:101 Charleston St  Lincoln NE 68508 USA
SUMMARY:Local Race Single
URL:/site/bmx_races/321904
END:VEVENT
END:VCALENDAR
