BEGIN:VCALENDAR
VERSION:2.0
PRODID:icalendar-ruby
CALSCALE:GREGORIAN
METHOD:PUBLISH
BEGIN:VEVENT
DTSTAMP:20260425T010635Z
UID:6c634a5c-ef4b-41aa-8623-66e841f8796f
DTSTART;VALUE=DATE:20160725
DTEND;VALUE=DATE:20160725
DESCRIPTION:Raytown BMX
LOCATION:12605 Frost Rd  Kansas City MO 64138 USA
SUMMARY:Standard Single Single
URL:/site/bmx_races/321376
END:VEVENT
END:VCALENDAR
