BEGIN:VCALENDAR
VERSION:2.0
PRODID:icalendar-ruby
CALSCALE:GREGORIAN
METHOD:PUBLISH
BEGIN:VEVENT
DTSTAMP:20260424T104315Z
UID:b79daae3-5844-4122-bfc7-3b9e7a2d2008
DTSTART;VALUE=DATE:20170617
DTEND;VALUE=DATE:20170617
DESCRIPTION:Spartanburg BMX
LOCATION:1160 Old Furnace Rd  Boiling Springs SC 29316 USA
SUMMARY:Standard Single Single
URL:/site/bmx_races/321185
END:VEVENT
END:VCALENDAR
