BEGIN:VCALENDAR
VERSION:2.0
PRODID:icalendar-ruby
CALSCALE:GREGORIAN
METHOD:PUBLISH
BEGIN:VEVENT
DTSTAMP:20260424T095009Z
UID:71916cf7-9e59-4b81-b23f-67c2538f8d1b
DTSTART;VALUE=DATE:20160729
DTEND;VALUE=DATE:20160729
DESCRIPTION:Gretna BMX Raceway
LOCATION:800 Gretna Blvd  Gretna LA 70053 USA
SUMMARY:Local Race Single
URL:/site/bmx_races/321040
END:VEVENT
END:VCALENDAR
