BEGIN:VCALENDAR
VERSION:2.0
PRODID:icalendar-ruby
CALSCALE:GREGORIAN
METHOD:PUBLISH
BEGIN:VEVENT
DTSTAMP:20260424T201236Z
UID:cce9f896-c6fa-4d35-97c6-4414f0820a54
DTSTART;VALUE=DATE:20170826
DTEND;VALUE=DATE:20170826
DESCRIPTION:Peachtree BMX
LOCATION:195 Mc Intosh Trail  Peachtree City GA 30269 USA
SUMMARY:Standard Single Single
URL:/site/bmx_races/320690
END:VEVENT
END:VCALENDAR
