BEGIN:VCALENDAR
VERSION:2.0
PRODID:icalendar-ruby
CALSCALE:GREGORIAN
METHOD:PUBLISH
BEGIN:VEVENT
DTSTAMP:20260424T233617Z
UID:9e1baf37-3a7c-42a4-990e-0e742db7b88a
DTSTART;VALUE=DATE:20170204
DTEND;VALUE=DATE:20170204
DESCRIPTION:Peachtree BMX
LOCATION:195 Mc Intosh Trail  Peachtree City GA 30269 USA
SUMMARY:Standard Single Single
URL:/site/bmx_races/320646
END:VEVENT
END:VCALENDAR
