BEGIN:VCALENDAR
VERSION:2.0
PRODID:icalendar-ruby
CALSCALE:GREGORIAN
METHOD:PUBLISH
BEGIN:VEVENT
DTSTAMP:20260426T032420Z
UID:7f8474c1-1fc7-4d3c-809d-8fa200e0dff9
DTSTART;VALUE=DATE:20161209
DTEND;VALUE=DATE:20161209
DESCRIPTION:Santa Clara PAL BMX
LOCATION:5401 Lafayette Street  Santa Clara CA 95051 USA
SUMMARY:Local Race Single
URL:/site/bmx_races/320581
END:VEVENT
END:VCALENDAR
