BEGIN:VCALENDAR
VERSION:2.0
PRODID:icalendar-ruby
CALSCALE:GREGORIAN
METHOD:PUBLISH
BEGIN:VEVENT
DTSTAMP:20260424T203831Z
UID:a7343588-9867-447c-931e-e7001bc436b1
DTSTART;VALUE=DATE:20160920
DTEND;VALUE=DATE:20160920
DESCRIPTION:Santa Clara PAL BMX
LOCATION:5401 Lafayette Street  Santa Clara CA 95051 USA
SUMMARY:Local Race Single
URL:/site/bmx_races/320547
END:VEVENT
END:VCALENDAR
