BEGIN:VCALENDAR
VERSION:2.0
PRODID:icalendar-ruby
CALSCALE:GREGORIAN
METHOD:PUBLISH
BEGIN:VEVENT
DTSTAMP:20260425T113701Z
UID:7c862f7a-d4ee-46b7-a8f9-7b7865c742b3
DTSTART;VALUE=DATE:20160702
DTEND;VALUE=DATE:20160702
DESCRIPTION:Wolfe Creek BMX
LOCATION:22843 Creek Road  Chatham ON  CAN
SUMMARY:Local Race Single
URL:/site/bmx_races/320058
END:VEVENT
END:VCALENDAR
